BEGIN:VCALENDAR
VERSION:2.0
PRODID:-//Blackpool Scouts - ECPv6.15.18//NONSGML v1.0//EN
CALSCALE:GREGORIAN
METHOD:PUBLISH
X-WR-CALNAME:Blackpool Scouts
X-ORIGINAL-URL:https://blackpoolscouts.org.uk
X-WR-CALDESC:Events for Blackpool Scouts
REFRESH-INTERVAL;VALUE=DURATION:PT1H
X-Robots-Tag:noindex
X-PUBLISHED-TTL:PT1H
BEGIN:VTIMEZONE
TZID:Europe/London
BEGIN:DAYLIGHT
TZOFFSETFROM:+0000
TZOFFSETTO:+0100
TZNAME:BST
DTSTART:20250330T010000
END:DAYLIGHT
BEGIN:STANDARD
TZOFFSETFROM:+0100
TZOFFSETTO:+0000
TZNAME:GMT
DTSTART:20251026T010000
END:STANDARD
BEGIN:DAYLIGHT
TZOFFSETFROM:+0000
TZOFFSETTO:+0100
TZNAME:BST
DTSTART:20260329T010000
END:DAYLIGHT
BEGIN:STANDARD
TZOFFSETFROM:+0100
TZOFFSETTO:+0000
TZNAME:GMT
DTSTART:20261025T010000
END:STANDARD
BEGIN:DAYLIGHT
TZOFFSETFROM:+0000
TZOFFSETTO:+0100
TZNAME:BST
DTSTART:20270328T010000
END:DAYLIGHT
BEGIN:STANDARD
TZOFFSETFROM:+0100
TZOFFSETTO:+0000
TZNAME:GMT
DTSTART:20271031T010000
END:STANDARD
END:VTIMEZONE
BEGIN:VEVENT
DTSTART;TZID=Europe/London:20260712T100000
DTEND;TZID=Europe/London:20260712T170000
DTSTAMP:20260419T210353
CREATED:20260419T134324Z
LAST-MODIFIED:20260419T134324Z
UID:10000711-1783850400-1783875600@blackpoolscouts.org.uk
SUMMARY:Commissioners Flag
DESCRIPTION:Blackpool Zoo \nArrive for 10am – Packs welcome to stay until zoo closes. \n1 free Adult place with every 10 Cubs. \nForm sent to all Cub Packs via email.
URL:https://blackpoolscouts.org.uk/event/commissioners-flag-2/
LOCATION:Blackpool Zoo\, East Park Drive\, Blackpool
CATEGORIES:Cubs,District,Leaders
ATTACH;FMTTYPE=image/png:https://blackpoolscouts.org.uk/wp-content/uploads/2024/09/Cubs-Event-Cover.png
ORGANIZER;CN="Blackpool Cub Scout Team":MAILTO:cubs@blackpoolscouts.org.uk
END:VEVENT
END:VCALENDAR