BEGIN:VCALENDAR
VERSION:2.0
PRODID:-//Blackpool Scouts - ECPv6.15.18//NONSGML v1.0//EN
CALSCALE:GREGORIAN
METHOD:PUBLISH
X-ORIGINAL-URL:https://blackpoolscouts.org.uk
X-WR-CALDESC:Events for Blackpool Scouts
REFRESH-INTERVAL;VALUE=DURATION:PT1H
X-Robots-Tag:noindex
X-PUBLISHED-TTL:PT1H
BEGIN:VTIMEZONE
TZID:Europe/London
BEGIN:DAYLIGHT
TZOFFSETFROM:+0000
TZOFFSETTO:+0100
TZNAME:BST
DTSTART:20250330T010000
END:DAYLIGHT
BEGIN:STANDARD
TZOFFSETFROM:+0100
TZOFFSETTO:+0000
TZNAME:GMT
DTSTART:20251026T010000
END:STANDARD
BEGIN:DAYLIGHT
TZOFFSETFROM:+0000
TZOFFSETTO:+0100
TZNAME:BST
DTSTART:20260329T010000
END:DAYLIGHT
BEGIN:STANDARD
TZOFFSETFROM:+0100
TZOFFSETTO:+0000
TZNAME:GMT
DTSTART:20261025T010000
END:STANDARD
BEGIN:DAYLIGHT
TZOFFSETFROM:+0000
TZOFFSETTO:+0100
TZNAME:BST
DTSTART:20270328T010000
END:DAYLIGHT
BEGIN:STANDARD
TZOFFSETFROM:+0100
TZOFFSETTO:+0000
TZNAME:GMT
DTSTART:20271031T010000
END:STANDARD
END:VTIMEZONE
BEGIN:VEVENT
DTSTART;TZID=Europe/London:20260607T120000
DTEND;TZID=Europe/London:20260607T163000
DTSTAMP:20260424T153733
CREATED:20260423T192134Z
LAST-MODIFIED:20260423T192134Z
UID:10000712-1780833600-1780849800@blackpoolscouts.org.uk
SUMMARY:Blackpool Youth Pride
DESCRIPTION:Sunday 7th June 2026 \nBlackpool Central Library \n12-4:30pm
URL:https://blackpoolscouts.org.uk/event/blackpool-youth-pride/
LOCATION:Blackpool  Central Library\, Queen Street\, Blackpool\, FY1 1PX\, United Kingdom
CATEGORIES:District,Leaders,Scouts
ATTACH;FMTTYPE=image/jpeg:https://blackpoolscouts.org.uk/wp-content/uploads/2026/04/Pride.jpeg
ORGANIZER;CN="Blackpool Scouts":MAILTO:info@blackpoolscouts.org.uk
END:VEVENT
END:VCALENDAR