BEGIN:VCALENDAR
VERSION:2.0
PRODID:-//Blackpool Scouts - ECPv6.15.18//NONSGML v1.0//EN
CALSCALE:GREGORIAN
METHOD:PUBLISH
X-WR-CALNAME:Blackpool Scouts
X-ORIGINAL-URL:https://blackpoolscouts.org.uk
X-WR-CALDESC:Events for Blackpool Scouts
REFRESH-INTERVAL;VALUE=DURATION:PT1H
X-Robots-Tag:noindex
X-PUBLISHED-TTL:PT1H
BEGIN:VTIMEZONE
TZID:Europe/London
BEGIN:DAYLIGHT
TZOFFSETFROM:+0000
TZOFFSETTO:+0100
TZNAME:BST
DTSTART:20250330T010000
END:DAYLIGHT
BEGIN:STANDARD
TZOFFSETFROM:+0100
TZOFFSETTO:+0000
TZNAME:GMT
DTSTART:20251026T010000
END:STANDARD
BEGIN:DAYLIGHT
TZOFFSETFROM:+0000
TZOFFSETTO:+0100
TZNAME:BST
DTSTART:20260329T010000
END:DAYLIGHT
BEGIN:STANDARD
TZOFFSETFROM:+0100
TZOFFSETTO:+0000
TZNAME:GMT
DTSTART:20261025T010000
END:STANDARD
BEGIN:DAYLIGHT
TZOFFSETFROM:+0000
TZOFFSETTO:+0100
TZNAME:BST
DTSTART:20270328T010000
END:DAYLIGHT
BEGIN:STANDARD
TZOFFSETFROM:+0100
TZOFFSETTO:+0000
TZNAME:GMT
DTSTART:20271031T010000
END:STANDARD
END:VTIMEZONE
BEGIN:VEVENT
DTSTART;TZID=Europe/London:20260424T193000
DTEND;TZID=Europe/London:20260425T000000
DTSTAMP:20260421T115909
CREATED:20250503T152626Z
LAST-MODIFIED:20260129T203604Z
UID:10000660-1777059000-1777075200@blackpoolscouts.org.uk
SUMMARY:Scouts Fundraising Ball 2026
DESCRIPTION:Join us for an unforgettable evening. Bursting with food\, entertainment and community celebration. Together we can ensure every person in Blackpool has the chance to experience the adventures of Scouting.\nHosted by local legends Ged Mills and Hayley Kay. Live music by The Deadbeats and a charity auction with guest auctioneer adventurer and star of Channel 4’s Hunted\, Jordan Wylie MBE. The evening is designed to bring our Scout members and the community together to raise money to help Scouts make an even bigger impact on young people’s lives. Find out how you can sponsor and play your part here. \nWhat’s included in your ticket?\n\nArrival Drinks\nThree-Course Meal (view menu here)\nCharity Raffle & Auction\nLive Music by The Deadbeats – Blackpool’s premier party band\nDisco to finish the night\n\nExternal Guests Booking\nMembers discount available. Email scoutball@blackpoolscouts.org.uk for details.
URL:https://blackpoolscouts.org.uk/event/fundraisingball/
LOCATION:Blackpool Football Club\, Bloomfield Road\, Seasiders Way\, Blackpool\, FY1 6JJ
CATEGORIES:Beavers,Cubs,District,Explorers,Leaders,Network,Scouts,Squirrels
ATTACH;FMTTYPE=image/png:https://blackpoolscouts.org.uk/wp-content/uploads/2025/05/2026-Ball-PowerPoint-Slide.png
ORGANIZER;CN="Tor Kenmare & Nicola Ellis":MAILTO:dinnerdance@blackpoolscouts.org.uk
END:VEVENT
BEGIN:VEVENT
DTSTART;TZID=Europe/London:20260426T100000
DTEND;TZID=Europe/London:20260426T143000
DTSTAMP:20260421T115909
CREATED:20260103T150632Z
LAST-MODIFIED:20260103T150632Z
UID:10000698-1777197600-1777213800@blackpoolscouts.org.uk
SUMMARY:Blackpool Monopoly Run
DESCRIPTION:First ever Blackpool Monopoly Run \nSunday April 26th 2026 \n10am-2:30pm \nFinishing up at Stanley Park in time for the parade. \n£5pp \nMore info to follow.
URL:https://blackpoolscouts.org.uk/event/blackpool-monopoly-run/
LOCATION:St John’s Church\, Church Street\, Blackpool\, FY11BP
CATEGORIES:District,Explorers,Leaders,Network,Scouts
ATTACH;FMTTYPE=image/png:https://blackpoolscouts.org.uk/wp-content/uploads/2024/09/Scouts-Event-Cover.png
ORGANIZER;CN="Blackpool Scout Section Team":MAILTO:scouts@blackpoolscouts.org.uk
END:VEVENT
BEGIN:VEVENT
DTSTART;TZID=Europe/London:20260426T130000
DTEND;TZID=Europe/London:20260426T153000
DTSTAMP:20260421T115910
CREATED:20260216T180514Z
LAST-MODIFIED:20260216T180514Z
UID:10000706-1777208400-1777217400@blackpoolscouts.org.uk
SUMMARY:St. George's Day in the Park
DESCRIPTION:Join us for a celebration with games and activities. Followed by our promise renewal at 3pm. More information to follow soon.
URL:https://blackpoolscouts.org.uk/event/st-georges-day-in-the-park/
LOCATION:Stanley Park\, West Park Drive\, Blackpool
CATEGORIES:Beavers,Cubs,District,Explorer Scout Young Leaders,Explorers,Leaders,Network,Scouts,Squirrels
ATTACH;FMTTYPE=image/png:https://blackpoolscouts.org.uk/wp-content/uploads/2026/02/St.-Georges-Day-in-the-Park-2026-Website-Event-Cover.png
ORGANIZER;CN="Blackpool Scouts":MAILTO:info@blackpoolscouts.org.uk
END:VEVENT
BEGIN:VEVENT
DTSTART;TZID=Europe/London:20260511T180000
DTEND;TZID=Europe/London:20260511T200000
DTSTAMP:20260421T115910
CREATED:20260419T133433Z
LAST-MODIFIED:20260419T133433Z
UID:10000708-1778522400-1778529600@blackpoolscouts.org.uk
SUMMARY:BOTT Walk 2026
DESCRIPTION:Third annual Blackpool on the trail \nAll sections invited to take part. \nWalk round the Fylde Arboretum/North Blackpool pond trail. \nInfo pack sent to all sections
URL:https://blackpoolscouts.org.uk/event/bott-walk-2026/2026-05-11/
LOCATION:Fylde Memorial Arboretum & Community Woodland\, Blackpool\, FY2 0WB
CATEGORIES:Beavers,Cubs,District,Explorers,Leaders,Network,Scouts,Squirrels
ATTACH;FMTTYPE=image/png:https://blackpoolscouts.org.uk/wp-content/uploads/2024/09/Cubs-Event-Cover.png
ORGANIZER;CN="Blackpool Cub Scout Team":MAILTO:cubs@blackpoolscouts.org.uk
END:VEVENT
BEGIN:VEVENT
DTSTART;TZID=Europe/London:20260514T180000
DTEND;TZID=Europe/London:20260514T200000
DTSTAMP:20260421T115910
CREATED:20260419T133433Z
LAST-MODIFIED:20260419T133433Z
UID:10000709-1778781600-1778788800@blackpoolscouts.org.uk
SUMMARY:BOTT Walk 2026
DESCRIPTION:Third annual Blackpool on the trail \nAll sections invited to take part. \nWalk round the Fylde Arboretum/North Blackpool pond trail. \nInfo pack sent to all sections
URL:https://blackpoolscouts.org.uk/event/bott-walk-2026/2026-05-14/
LOCATION:Fylde Memorial Arboretum & Community Woodland\, Blackpool\, FY2 0WB
CATEGORIES:Beavers,Cubs,District,Explorers,Leaders,Network,Scouts,Squirrels
ATTACH;FMTTYPE=image/png:https://blackpoolscouts.org.uk/wp-content/uploads/2024/09/Cubs-Event-Cover.png
ORGANIZER;CN="Blackpool Cub Scout Team":MAILTO:cubs@blackpoolscouts.org.uk
END:VEVENT
BEGIN:VEVENT
DTSTART;TZID=Europe/London:20260702T193000
DTEND;TZID=Europe/London:20260702T210000
DTSTAMP:20260421T115910
CREATED:20260323T131702Z
LAST-MODIFIED:20260419T134626Z
UID:10000707-1783020600-1783026000@blackpoolscouts.org.uk
SUMMARY:Annual General Meeting 2026
DESCRIPTION:
URL:https://blackpoolscouts.org.uk/event/annual-general-meeting-2026/
LOCATION:Blackpool Football Club\, Bloomfield Road\, Seasiders Way\, Blackpool\, FY1 6JJ
CATEGORIES:District,Explorers,Gang Show,Leaders,Network,Training
ATTACH;FMTTYPE=image/png:https://blackpoolscouts.org.uk/wp-content/uploads/2026/03/Annual-General-Meeting-2026.png
ORGANIZER;CN="Blackpool Scouts":MAILTO:info@blackpoolscouts.org.uk
END:VEVENT
END:VCALENDAR