BEGIN:VCALENDAR
VERSION:2.0
PRODID:-//Blackpool Scouts - ECPv6.15.18//NONSGML v1.0//EN
CALSCALE:GREGORIAN
METHOD:PUBLISH
X-ORIGINAL-URL:https://blackpoolscouts.org.uk
X-WR-CALDESC:Events for Blackpool Scouts
REFRESH-INTERVAL;VALUE=DURATION:PT1H
X-Robots-Tag:noindex
X-PUBLISHED-TTL:PT1H
BEGIN:VTIMEZONE
TZID:Europe/London
BEGIN:DAYLIGHT
TZOFFSETFROM:+0000
TZOFFSETTO:+0100
TZNAME:BST
DTSTART:20240331T010000
END:DAYLIGHT
BEGIN:STANDARD
TZOFFSETFROM:+0100
TZOFFSETTO:+0000
TZNAME:GMT
DTSTART:20241027T010000
END:STANDARD
BEGIN:DAYLIGHT
TZOFFSETFROM:+0000
TZOFFSETTO:+0100
TZNAME:BST
DTSTART:20250330T010000
END:DAYLIGHT
BEGIN:STANDARD
TZOFFSETFROM:+0100
TZOFFSETTO:+0000
TZNAME:GMT
DTSTART:20251026T010000
END:STANDARD
BEGIN:DAYLIGHT
TZOFFSETFROM:+0000
TZOFFSETTO:+0100
TZNAME:BST
DTSTART:20260329T010000
END:DAYLIGHT
BEGIN:STANDARD
TZOFFSETFROM:+0100
TZOFFSETTO:+0000
TZNAME:GMT
DTSTART:20261025T010000
END:STANDARD
BEGIN:DAYLIGHT
TZOFFSETFROM:+0000
TZOFFSETTO:+0100
TZNAME:BST
DTSTART:20270328T010000
END:DAYLIGHT
BEGIN:STANDARD
TZOFFSETFROM:+0100
TZOFFSETTO:+0000
TZNAME:GMT
DTSTART:20271031T010000
END:STANDARD
END:VTIMEZONE
BEGIN:VEVENT
DTSTART;TZID=Europe/London:20260124T190000
DTEND;TZID=Europe/London:20260124T210000
DTSTAMP:20260424T123054
CREATED:20250312T162015Z
LAST-MODIFIED:20260107T140421Z
UID:10000674-1769281200-1769288400@blackpoolscouts.org.uk
SUMMARY:Blackpool Gang Show 2026
DESCRIPTION:Sit back relax and enjoy our extravaganza of music\, comedy and dance. With hilarious comedy sketches\, fantastic sing-along numbers and heart-warming solos\, this will be a show to remember.
URL:https://blackpoolscouts.org.uk/event/blackpool-gang-show-2026/2026-01-24/2/
LOCATION:Blackpool Grand Theatre\, Church Street\, Blackpool
CATEGORIES:Gang Show
ATTACH;FMTTYPE=image/png:https://blackpoolscouts.org.uk/wp-content/uploads/2024/10/1920-x-1080.png
ORGANIZER;CN="Blackpool Gang Show":MAILTO:director@blackpoolgangshow.org.uk
END:VEVENT
BEGIN:VEVENT
DTSTART;TZID=Europe/London:20260124T140000
DTEND;TZID=Europe/London:20260124T160000
DTSTAMP:20260424T123054
CREATED:20250312T162015Z
LAST-MODIFIED:20260107T140421Z
UID:10000673-1769263200-1769270400@blackpoolscouts.org.uk
SUMMARY:Blackpool Gang Show 2026
DESCRIPTION:Sit back relax and enjoy our extravaganza of music\, comedy and dance. With hilarious comedy sketches\, fantastic sing-along numbers and heart-warming solos\, this will be a show to remember.
URL:https://blackpoolscouts.org.uk/event/blackpool-gang-show-2026/2026-01-24/1/
LOCATION:Blackpool Grand Theatre\, Church Street\, Blackpool
CATEGORIES:Gang Show
ATTACH;FMTTYPE=image/png:https://blackpoolscouts.org.uk/wp-content/uploads/2024/10/1920-x-1080.png
ORGANIZER;CN="Blackpool Gang Show":MAILTO:director@blackpoolgangshow.org.uk
END:VEVENT
BEGIN:VEVENT
DTSTART;TZID=Europe/London:20260123T193000
DTEND;TZID=Europe/London:20260123T213000
DTSTAMP:20260424T123054
CREATED:20250312T162015Z
LAST-MODIFIED:20260107T140421Z
UID:10000672-1769196600-1769203800@blackpoolscouts.org.uk
SUMMARY:Blackpool Gang Show 2026
DESCRIPTION:Sit back relax and enjoy our extravaganza of music\, comedy and dance. With hilarious comedy sketches\, fantastic sing-along numbers and heart-warming solos\, this will be a show to remember.
URL:https://blackpoolscouts.org.uk/event/blackpool-gang-show-2026/2026-01-23/
LOCATION:Blackpool Grand Theatre\, Church Street\, Blackpool
CATEGORIES:Gang Show
ATTACH;FMTTYPE=image/png:https://blackpoolscouts.org.uk/wp-content/uploads/2024/10/1920-x-1080.png
ORGANIZER;CN="Blackpool Gang Show":MAILTO:director@blackpoolgangshow.org.uk
END:VEVENT
BEGIN:VEVENT
DTSTART;TZID=Europe/London:20260122T193000
DTEND;TZID=Europe/London:20260122T213000
DTSTAMP:20260424T123054
CREATED:20250312T162015Z
LAST-MODIFIED:20260107T140421Z
UID:10000671-1769110200-1769117400@blackpoolscouts.org.uk
SUMMARY:Blackpool Gang Show 2026
DESCRIPTION:Sit back relax and enjoy our extravaganza of music\, comedy and dance. With hilarious comedy sketches\, fantastic sing-along numbers and heart-warming solos\, this will be a show to remember.
URL:https://blackpoolscouts.org.uk/event/blackpool-gang-show-2026/2026-01-22/
LOCATION:Blackpool Grand Theatre\, Church Street\, Blackpool
CATEGORIES:Gang Show
ATTACH;FMTTYPE=image/png:https://blackpoolscouts.org.uk/wp-content/uploads/2024/10/1920-x-1080.png
ORGANIZER;CN="Blackpool Gang Show":MAILTO:director@blackpoolgangshow.org.uk
END:VEVENT
BEGIN:VEVENT
DTSTART;VALUE=DATE:20260121
DTEND;VALUE=DATE:20260122
DTSTAMP:20260424T123054
CREATED:20250312T160621Z
LAST-MODIFIED:20250626T165016Z
UID:10000631-1768953600-1769039999@blackpoolscouts.org.uk
SUMMARY:Gang Show Dress Rehearsal
DESCRIPTION:This is a rehearsal for Blackpool Gang Show. Specific timings are in the rehearsal schedule and on OSM. If you have any questions\, please contact director@blackpoolgangshow.org.uk.
URL:https://blackpoolscouts.org.uk/event/gang-show-dress-rehearsal-2/
LOCATION:Blackpool Grand Theatre\, Church Street\, Blackpool
CATEGORIES:Gang Show
ATTACH;FMTTYPE=image/png:https://blackpoolscouts.org.uk/wp-content/uploads/2022/04/Cover-Photo.png
ORGANIZER;CN="Blackpool Gang Show":MAILTO:director@blackpoolgangshow.org.uk
END:VEVENT
BEGIN:VEVENT
DTSTART;VALUE=DATE:20260120
DTEND;VALUE=DATE:20260121
DTSTAMP:20260424T123054
CREATED:20250312T160326Z
LAST-MODIFIED:20250626T165002Z
UID:10000630-1768867200-1768953599@blackpoolscouts.org.uk
SUMMARY:Gang Show Technical Rehearsal
DESCRIPTION:This is a rehearsal for Blackpool Gang Show. Specific timings are in the rehearsal schedule and on OSM. If you have any questions\, please contact director@blackpoolgangshow.org.uk.
URL:https://blackpoolscouts.org.uk/event/gang-show-tech-rehearsal/
LOCATION:Blackpool Grand Theatre\, Church Street\, Blackpool
CATEGORIES:Gang Show
ATTACH;FMTTYPE=image/png:https://blackpoolscouts.org.uk/wp-content/uploads/2022/04/Cover-Photo.png
ORGANIZER;CN="Blackpool Gang Show":MAILTO:director@blackpoolgangshow.org.uk
END:VEVENT
BEGIN:VEVENT
DTSTART;VALUE=DATE:20260119
DTEND;VALUE=DATE:20260120
DTSTAMP:20260424T123054
CREATED:20250312T160100Z
LAST-MODIFIED:20250626T164934Z
UID:10000629-1768780800-1768867199@blackpoolscouts.org.uk
SUMMARY:Gang Show Technical Get In (No Cast)
DESCRIPTION:This is a rehearsal for Blackpool Gang Show. Specific timings are in the rehearsal schedule and on OSM. If you have any questions\, please contact director@blackpoolgangshow.org.uk.
URL:https://blackpoolscouts.org.uk/event/gang-show-technical-get-in-no-cast/
LOCATION:Blackpool Grand Theatre\, Church Street\, Blackpool
CATEGORIES:Gang Show
ATTACH;FMTTYPE=image/png:https://blackpoolscouts.org.uk/wp-content/uploads/2022/04/Cover-Photo.png
ORGANIZER;CN="Blackpool Gang Show":MAILTO:director@blackpoolgangshow.org.uk
END:VEVENT
BEGIN:VEVENT
DTSTART;TZID=Europe/London:20260118T130000
DTEND;TZID=Europe/London:20260118T170000
DTSTAMP:20260424T123054
CREATED:20250304T135950Z
LAST-MODIFIED:20250626T165139Z
UID:10000675-1768741200-1768755600@blackpoolscouts.org.uk
SUMMARY:Gang Show Rehearsal
DESCRIPTION:This is a rehearsal for Blackpool Gang Show. Specific timings are in the rehearsal schedule and on OSM. If you have any questions\, please contact director@blackpoolgangshow.org.uk.
URL:https://blackpoolscouts.org.uk/event/gang-show-rehearsal-4/2026-01-18/
LOCATION:Unity Academy\, Warbreck Hill\, Blackpool
CATEGORIES:Gang Show
ATTACH;FMTTYPE=image/png:https://blackpoolscouts.org.uk/wp-content/uploads/2022/04/Cover-Photo.png
ORGANIZER;CN="Blackpool Gang Show":MAILTO:director@blackpoolgangshow.org.uk
END:VEVENT
BEGIN:VEVENT
DTSTART;TZID=Europe/London:20260113T183000
DTEND;TZID=Europe/London:20260113T210000
DTSTAMP:20260424T123054
CREATED:20250304T135441Z
LAST-MODIFIED:20250626T165223Z
UID:10000676-1768329000-1768338000@blackpoolscouts.org.uk
SUMMARY:Gang Show Rehearsal
DESCRIPTION:This is a rehearsal for Blackpool Gang Show. Specific timings are in the rehearsal schedule and on OSM. If you have any questions\, please contact director@blackpoolgangshow.org.uk.
URL:https://blackpoolscouts.org.uk/event/gang-show-rehearsal-3/2026-01-13/
LOCATION:Unity Academy\, Warbreck Hill\, Blackpool
CATEGORIES:Gang Show
ATTACH;FMTTYPE=image/png:https://blackpoolscouts.org.uk/wp-content/uploads/2022/04/Cover-Photo.png
ORGANIZER;CN="Blackpool Gang Show":MAILTO:director@blackpoolgangshow.org.uk
END:VEVENT
BEGIN:VEVENT
DTSTART;TZID=Europe/London:20260111T130000
DTEND;TZID=Europe/London:20260111T170000
DTSTAMP:20260424T123054
CREATED:20250304T135950Z
LAST-MODIFIED:20250626T165139Z
UID:10000652-1768136400-1768150800@blackpoolscouts.org.uk
SUMMARY:Gang Show Rehearsal
DESCRIPTION:This is a rehearsal for Blackpool Gang Show. Specific timings are in the rehearsal schedule and on OSM. If you have any questions\, please contact director@blackpoolgangshow.org.uk.
URL:https://blackpoolscouts.org.uk/event/gang-show-rehearsal-4/2026-01-11/
LOCATION:Unity Academy\, Warbreck Hill\, Blackpool
CATEGORIES:Gang Show
ATTACH;FMTTYPE=image/png:https://blackpoolscouts.org.uk/wp-content/uploads/2022/04/Cover-Photo.png
ORGANIZER;CN="Blackpool Gang Show":MAILTO:director@blackpoolgangshow.org.uk
END:VEVENT
BEGIN:VEVENT
DTSTART;TZID=Europe/London:20260106T183000
DTEND;TZID=Europe/London:20260106T210000
DTSTAMP:20260424T123054
CREATED:20250304T135441Z
LAST-MODIFIED:20250626T165223Z
UID:10000615-1767724200-1767733200@blackpoolscouts.org.uk
SUMMARY:Gang Show Rehearsal
DESCRIPTION:This is a rehearsal for Blackpool Gang Show. Specific timings are in the rehearsal schedule and on OSM. If you have any questions\, please contact director@blackpoolgangshow.org.uk.
URL:https://blackpoolscouts.org.uk/event/gang-show-rehearsal-3/2026-01-06/
LOCATION:Unity Academy\, Warbreck Hill\, Blackpool
CATEGORIES:Gang Show
ATTACH;FMTTYPE=image/png:https://blackpoolscouts.org.uk/wp-content/uploads/2022/04/Cover-Photo.png
ORGANIZER;CN="Blackpool Gang Show":MAILTO:director@blackpoolgangshow.org.uk
END:VEVENT
BEGIN:VEVENT
DTSTART;TZID=Europe/London:20260104T130000
DTEND;TZID=Europe/London:20260104T170000
DTSTAMP:20260424T123054
CREATED:20250304T135950Z
LAST-MODIFIED:20250626T165139Z
UID:10000651-1767531600-1767546000@blackpoolscouts.org.uk
SUMMARY:Gang Show Rehearsal
DESCRIPTION:This is a rehearsal for Blackpool Gang Show. Specific timings are in the rehearsal schedule and on OSM. If you have any questions\, please contact director@blackpoolgangshow.org.uk.
URL:https://blackpoolscouts.org.uk/event/gang-show-rehearsal-4/2026-01-04/
LOCATION:Unity Academy\, Warbreck Hill\, Blackpool
CATEGORIES:Gang Show
ATTACH;FMTTYPE=image/png:https://blackpoolscouts.org.uk/wp-content/uploads/2022/04/Cover-Photo.png
ORGANIZER;CN="Blackpool Gang Show":MAILTO:director@blackpoolgangshow.org.uk
END:VEVENT
BEGIN:VEVENT
DTSTART;TZID=Europe/London:20251216T183000
DTEND;TZID=Europe/London:20251216T210000
DTSTAMP:20260424T123054
CREATED:20250304T135441Z
LAST-MODIFIED:20250626T165223Z
UID:10000614-1765909800-1765918800@blackpoolscouts.org.uk
SUMMARY:Gang Show Rehearsal
DESCRIPTION:This is a rehearsal for Blackpool Gang Show. Specific timings are in the rehearsal schedule and on OSM. If you have any questions\, please contact director@blackpoolgangshow.org.uk.
URL:https://blackpoolscouts.org.uk/event/gang-show-rehearsal-3/2025-12-16/
LOCATION:Unity Academy\, Warbreck Hill\, Blackpool
CATEGORIES:Gang Show
ATTACH;FMTTYPE=image/png:https://blackpoolscouts.org.uk/wp-content/uploads/2022/04/Cover-Photo.png
ORGANIZER;CN="Blackpool Gang Show":MAILTO:director@blackpoolgangshow.org.uk
END:VEVENT
BEGIN:VEVENT
DTSTART;TZID=Europe/London:20251214T130000
DTEND;TZID=Europe/London:20251214T170000
DTSTAMP:20260424T123054
CREATED:20250304T135950Z
LAST-MODIFIED:20250626T165139Z
UID:10000650-1765717200-1765731600@blackpoolscouts.org.uk
SUMMARY:Gang Show Rehearsal
DESCRIPTION:This is a rehearsal for Blackpool Gang Show. Specific timings are in the rehearsal schedule and on OSM. If you have any questions\, please contact director@blackpoolgangshow.org.uk.
URL:https://blackpoolscouts.org.uk/event/gang-show-rehearsal-4/2025-12-14/
LOCATION:Unity Academy\, Warbreck Hill\, Blackpool
CATEGORIES:Gang Show
ATTACH;FMTTYPE=image/png:https://blackpoolscouts.org.uk/wp-content/uploads/2022/04/Cover-Photo.png
ORGANIZER;CN="Blackpool Gang Show":MAILTO:director@blackpoolgangshow.org.uk
END:VEVENT
BEGIN:VEVENT
DTSTART;TZID=Europe/London:20251209T183000
DTEND;TZID=Europe/London:20251209T210000
DTSTAMP:20260424T123054
CREATED:20250304T135441Z
LAST-MODIFIED:20250626T165223Z
UID:10000613-1765305000-1765314000@blackpoolscouts.org.uk
SUMMARY:Gang Show Rehearsal
DESCRIPTION:This is a rehearsal for Blackpool Gang Show. Specific timings are in the rehearsal schedule and on OSM. If you have any questions\, please contact director@blackpoolgangshow.org.uk.
URL:https://blackpoolscouts.org.uk/event/gang-show-rehearsal-3/2025-12-09/
LOCATION:Unity Academy\, Warbreck Hill\, Blackpool
CATEGORIES:Gang Show
ATTACH;FMTTYPE=image/png:https://blackpoolscouts.org.uk/wp-content/uploads/2022/04/Cover-Photo.png
ORGANIZER;CN="Blackpool Gang Show":MAILTO:director@blackpoolgangshow.org.uk
END:VEVENT
BEGIN:VEVENT
DTSTART;TZID=Europe/London:20251207T130000
DTEND;TZID=Europe/London:20251207T170000
DTSTAMP:20260424T123054
CREATED:20250304T135950Z
LAST-MODIFIED:20250626T165139Z
UID:10000649-1765112400-1765126800@blackpoolscouts.org.uk
SUMMARY:Gang Show Rehearsal
DESCRIPTION:This is a rehearsal for Blackpool Gang Show. Specific timings are in the rehearsal schedule and on OSM. If you have any questions\, please contact director@blackpoolgangshow.org.uk.
URL:https://blackpoolscouts.org.uk/event/gang-show-rehearsal-4/2025-12-07/
LOCATION:Unity Academy\, Warbreck Hill\, Blackpool
CATEGORIES:Gang Show
ATTACH;FMTTYPE=image/png:https://blackpoolscouts.org.uk/wp-content/uploads/2022/04/Cover-Photo.png
ORGANIZER;CN="Blackpool Gang Show":MAILTO:director@blackpoolgangshow.org.uk
END:VEVENT
BEGIN:VEVENT
DTSTART;TZID=Europe/London:20251202T183000
DTEND;TZID=Europe/London:20251202T210000
DTSTAMP:20260424T123054
CREATED:20250304T135441Z
LAST-MODIFIED:20250626T165223Z
UID:10000612-1764700200-1764709200@blackpoolscouts.org.uk
SUMMARY:Gang Show Rehearsal
DESCRIPTION:This is a rehearsal for Blackpool Gang Show. Specific timings are in the rehearsal schedule and on OSM. If you have any questions\, please contact director@blackpoolgangshow.org.uk.
URL:https://blackpoolscouts.org.uk/event/gang-show-rehearsal-3/2025-12-02/
LOCATION:Unity Academy\, Warbreck Hill\, Blackpool
CATEGORIES:Gang Show
ATTACH;FMTTYPE=image/png:https://blackpoolscouts.org.uk/wp-content/uploads/2022/04/Cover-Photo.png
ORGANIZER;CN="Blackpool Gang Show":MAILTO:director@blackpoolgangshow.org.uk
END:VEVENT
BEGIN:VEVENT
DTSTART;TZID=Europe/London:20251130T130000
DTEND;TZID=Europe/London:20251130T170000
DTSTAMP:20260424T123054
CREATED:20250304T135950Z
LAST-MODIFIED:20250626T165139Z
UID:10000648-1764507600-1764522000@blackpoolscouts.org.uk
SUMMARY:Gang Show Rehearsal
DESCRIPTION:This is a rehearsal for Blackpool Gang Show. Specific timings are in the rehearsal schedule and on OSM. If you have any questions\, please contact director@blackpoolgangshow.org.uk.
URL:https://blackpoolscouts.org.uk/event/gang-show-rehearsal-4/2025-11-30/
LOCATION:Unity Academy\, Warbreck Hill\, Blackpool
CATEGORIES:Gang Show
ATTACH;FMTTYPE=image/png:https://blackpoolscouts.org.uk/wp-content/uploads/2022/04/Cover-Photo.png
ORGANIZER;CN="Blackpool Gang Show":MAILTO:director@blackpoolgangshow.org.uk
END:VEVENT
BEGIN:VEVENT
DTSTART;TZID=Europe/London:20251125T183000
DTEND;TZID=Europe/London:20251125T210000
DTSTAMP:20260424T123054
CREATED:20250304T135441Z
LAST-MODIFIED:20250626T165223Z
UID:10000611-1764095400-1764104400@blackpoolscouts.org.uk
SUMMARY:Gang Show Rehearsal
DESCRIPTION:This is a rehearsal for Blackpool Gang Show. Specific timings are in the rehearsal schedule and on OSM. If you have any questions\, please contact director@blackpoolgangshow.org.uk.
URL:https://blackpoolscouts.org.uk/event/gang-show-rehearsal-3/2025-11-25/
LOCATION:Unity Academy\, Warbreck Hill\, Blackpool
CATEGORIES:Gang Show
ATTACH;FMTTYPE=image/png:https://blackpoolscouts.org.uk/wp-content/uploads/2022/04/Cover-Photo.png
ORGANIZER;CN="Blackpool Gang Show":MAILTO:director@blackpoolgangshow.org.uk
END:VEVENT
BEGIN:VEVENT
DTSTART;TZID=Europe/London:20251123T130000
DTEND;TZID=Europe/London:20251123T170000
DTSTAMP:20260424T123054
CREATED:20250304T135950Z
LAST-MODIFIED:20250626T165139Z
UID:10000647-1763902800-1763917200@blackpoolscouts.org.uk
SUMMARY:Gang Show Rehearsal
DESCRIPTION:This is a rehearsal for Blackpool Gang Show. Specific timings are in the rehearsal schedule and on OSM. If you have any questions\, please contact director@blackpoolgangshow.org.uk.
URL:https://blackpoolscouts.org.uk/event/gang-show-rehearsal-4/2025-11-23/
LOCATION:Unity Academy\, Warbreck Hill\, Blackpool
CATEGORIES:Gang Show
ATTACH;FMTTYPE=image/png:https://blackpoolscouts.org.uk/wp-content/uploads/2022/04/Cover-Photo.png
ORGANIZER;CN="Blackpool Gang Show":MAILTO:director@blackpoolgangshow.org.uk
END:VEVENT
BEGIN:VEVENT
DTSTART;TZID=Europe/London:20251118T183000
DTEND;TZID=Europe/London:20251118T210000
DTSTAMP:20260424T123054
CREATED:20250304T135441Z
LAST-MODIFIED:20250626T165223Z
UID:10000610-1763490600-1763499600@blackpoolscouts.org.uk
SUMMARY:Gang Show Rehearsal
DESCRIPTION:This is a rehearsal for Blackpool Gang Show. Specific timings are in the rehearsal schedule and on OSM. If you have any questions\, please contact director@blackpoolgangshow.org.uk.
URL:https://blackpoolscouts.org.uk/event/gang-show-rehearsal-3/2025-11-18/
LOCATION:Unity Academy\, Warbreck Hill\, Blackpool
CATEGORIES:Gang Show
ATTACH;FMTTYPE=image/png:https://blackpoolscouts.org.uk/wp-content/uploads/2022/04/Cover-Photo.png
ORGANIZER;CN="Blackpool Gang Show":MAILTO:director@blackpoolgangshow.org.uk
END:VEVENT
BEGIN:VEVENT
DTSTART;TZID=Europe/London:20251116T130000
DTEND;TZID=Europe/London:20251116T170000
DTSTAMP:20260424T123054
CREATED:20250304T135950Z
LAST-MODIFIED:20250626T165139Z
UID:10000646-1763298000-1763312400@blackpoolscouts.org.uk
SUMMARY:Gang Show Rehearsal
DESCRIPTION:This is a rehearsal for Blackpool Gang Show. Specific timings are in the rehearsal schedule and on OSM. If you have any questions\, please contact director@blackpoolgangshow.org.uk.
URL:https://blackpoolscouts.org.uk/event/gang-show-rehearsal-4/2025-11-16/
LOCATION:Unity Academy\, Warbreck Hill\, Blackpool
CATEGORIES:Gang Show
ATTACH;FMTTYPE=image/png:https://blackpoolscouts.org.uk/wp-content/uploads/2022/04/Cover-Photo.png
ORGANIZER;CN="Blackpool Gang Show":MAILTO:director@blackpoolgangshow.org.uk
END:VEVENT
BEGIN:VEVENT
DTSTART;TZID=Europe/London:20251111T183000
DTEND;TZID=Europe/London:20251111T210000
DTSTAMP:20260424T123054
CREATED:20250304T135441Z
LAST-MODIFIED:20250626T165223Z
UID:10000609-1762885800-1762894800@blackpoolscouts.org.uk
SUMMARY:Gang Show Rehearsal
DESCRIPTION:This is a rehearsal for Blackpool Gang Show. Specific timings are in the rehearsal schedule and on OSM. If you have any questions\, please contact director@blackpoolgangshow.org.uk.
URL:https://blackpoolscouts.org.uk/event/gang-show-rehearsal-3/2025-11-11/
LOCATION:Unity Academy\, Warbreck Hill\, Blackpool
CATEGORIES:Gang Show
ATTACH;FMTTYPE=image/png:https://blackpoolscouts.org.uk/wp-content/uploads/2022/04/Cover-Photo.png
ORGANIZER;CN="Blackpool Gang Show":MAILTO:director@blackpoolgangshow.org.uk
END:VEVENT
BEGIN:VEVENT
DTSTART;TZID=Europe/London:20251109T130000
DTEND;TZID=Europe/London:20251109T170000
DTSTAMP:20260424T123054
CREATED:20250304T135950Z
LAST-MODIFIED:20250626T165139Z
UID:10000645-1762693200-1762707600@blackpoolscouts.org.uk
SUMMARY:Gang Show Rehearsal
DESCRIPTION:This is a rehearsal for Blackpool Gang Show. Specific timings are in the rehearsal schedule and on OSM. If you have any questions\, please contact director@blackpoolgangshow.org.uk.
URL:https://blackpoolscouts.org.uk/event/gang-show-rehearsal-4/2025-11-09/
LOCATION:Unity Academy\, Warbreck Hill\, Blackpool
CATEGORIES:Gang Show
ATTACH;FMTTYPE=image/png:https://blackpoolscouts.org.uk/wp-content/uploads/2022/04/Cover-Photo.png
ORGANIZER;CN="Blackpool Gang Show":MAILTO:director@blackpoolgangshow.org.uk
END:VEVENT
BEGIN:VEVENT
DTSTART;TZID=Europe/London:20251104T183000
DTEND;TZID=Europe/London:20251104T210000
DTSTAMP:20260424T123054
CREATED:20250304T135441Z
LAST-MODIFIED:20250626T165223Z
UID:10000608-1762281000-1762290000@blackpoolscouts.org.uk
SUMMARY:Gang Show Rehearsal
DESCRIPTION:This is a rehearsal for Blackpool Gang Show. Specific timings are in the rehearsal schedule and on OSM. If you have any questions\, please contact director@blackpoolgangshow.org.uk.
URL:https://blackpoolscouts.org.uk/event/gang-show-rehearsal-3/2025-11-04/
LOCATION:Unity Academy\, Warbreck Hill\, Blackpool
CATEGORIES:Gang Show
ATTACH;FMTTYPE=image/png:https://blackpoolscouts.org.uk/wp-content/uploads/2022/04/Cover-Photo.png
ORGANIZER;CN="Blackpool Gang Show":MAILTO:director@blackpoolgangshow.org.uk
END:VEVENT
BEGIN:VEVENT
DTSTART;TZID=Europe/London:20251102T130000
DTEND;TZID=Europe/London:20251102T170000
DTSTAMP:20260424T123054
CREATED:20250304T135950Z
LAST-MODIFIED:20250626T165139Z
UID:10000644-1762088400-1762102800@blackpoolscouts.org.uk
SUMMARY:Gang Show Rehearsal
DESCRIPTION:This is a rehearsal for Blackpool Gang Show. Specific timings are in the rehearsal schedule and on OSM. If you have any questions\, please contact director@blackpoolgangshow.org.uk.
URL:https://blackpoolscouts.org.uk/event/gang-show-rehearsal-4/2025-11-02/
LOCATION:Unity Academy\, Warbreck Hill\, Blackpool
CATEGORIES:Gang Show
ATTACH;FMTTYPE=image/png:https://blackpoolscouts.org.uk/wp-content/uploads/2022/04/Cover-Photo.png
ORGANIZER;CN="Blackpool Gang Show":MAILTO:director@blackpoolgangshow.org.uk
END:VEVENT
BEGIN:VEVENT
DTSTART;TZID=Europe/London:20251028T183000
DTEND;TZID=Europe/London:20251028T210000
DTSTAMP:20260424T123054
CREATED:20250304T135441Z
LAST-MODIFIED:20250626T165223Z
UID:10000607-1761676200-1761685200@blackpoolscouts.org.uk
SUMMARY:Gang Show Rehearsal
DESCRIPTION:This is a rehearsal for Blackpool Gang Show. Specific timings are in the rehearsal schedule and on OSM. If you have any questions\, please contact director@blackpoolgangshow.org.uk.
URL:https://blackpoolscouts.org.uk/event/gang-show-rehearsal-3/2025-10-28/
LOCATION:Unity Academy\, Warbreck Hill\, Blackpool
CATEGORIES:Gang Show
ATTACH;FMTTYPE=image/png:https://blackpoolscouts.org.uk/wp-content/uploads/2022/04/Cover-Photo.png
ORGANIZER;CN="Blackpool Gang Show":MAILTO:director@blackpoolgangshow.org.uk
END:VEVENT
BEGIN:VEVENT
DTSTART;TZID=Europe/London:20251026T130000
DTEND;TZID=Europe/London:20251026T170000
DTSTAMP:20260424T123054
CREATED:20250304T135950Z
LAST-MODIFIED:20250626T165139Z
UID:10000643-1761483600-1761498000@blackpoolscouts.org.uk
SUMMARY:Gang Show Rehearsal
DESCRIPTION:This is a rehearsal for Blackpool Gang Show. Specific timings are in the rehearsal schedule and on OSM. If you have any questions\, please contact director@blackpoolgangshow.org.uk.
URL:https://blackpoolscouts.org.uk/event/gang-show-rehearsal-4/2025-10-26/
LOCATION:Unity Academy\, Warbreck Hill\, Blackpool
CATEGORIES:Gang Show
ATTACH;FMTTYPE=image/png:https://blackpoolscouts.org.uk/wp-content/uploads/2022/04/Cover-Photo.png
ORGANIZER;CN="Blackpool Gang Show":MAILTO:director@blackpoolgangshow.org.uk
END:VEVENT
BEGIN:VEVENT
DTSTART;TZID=Europe/London:20251021T183000
DTEND;TZID=Europe/London:20251021T210000
DTSTAMP:20260424T123054
CREATED:20250304T135441Z
LAST-MODIFIED:20250626T165223Z
UID:10000606-1761071400-1761080400@blackpoolscouts.org.uk
SUMMARY:Gang Show Rehearsal
DESCRIPTION:This is a rehearsal for Blackpool Gang Show. Specific timings are in the rehearsal schedule and on OSM. If you have any questions\, please contact director@blackpoolgangshow.org.uk.
URL:https://blackpoolscouts.org.uk/event/gang-show-rehearsal-3/2025-10-21/
LOCATION:Unity Academy\, Warbreck Hill\, Blackpool
CATEGORIES:Gang Show
ATTACH;FMTTYPE=image/png:https://blackpoolscouts.org.uk/wp-content/uploads/2022/04/Cover-Photo.png
ORGANIZER;CN="Blackpool Gang Show":MAILTO:director@blackpoolgangshow.org.uk
END:VEVENT
BEGIN:VEVENT
DTSTART;TZID=Europe/London:20251019T130000
DTEND;TZID=Europe/London:20251019T170000
DTSTAMP:20260424T123054
CREATED:20250304T135950Z
LAST-MODIFIED:20250626T165139Z
UID:10000642-1760878800-1760893200@blackpoolscouts.org.uk
SUMMARY:Gang Show Rehearsal
DESCRIPTION:This is a rehearsal for Blackpool Gang Show. Specific timings are in the rehearsal schedule and on OSM. If you have any questions\, please contact director@blackpoolgangshow.org.uk.
URL:https://blackpoolscouts.org.uk/event/gang-show-rehearsal-4/2025-10-19/
LOCATION:Unity Academy\, Warbreck Hill\, Blackpool
CATEGORIES:Gang Show
ATTACH;FMTTYPE=image/png:https://blackpoolscouts.org.uk/wp-content/uploads/2022/04/Cover-Photo.png
ORGANIZER;CN="Blackpool Gang Show":MAILTO:director@blackpoolgangshow.org.uk
END:VEVENT
END:VCALENDAR