BEGIN:VCALENDAR
VERSION:2.0
PRODID:-//Blackpool Scouts - ECPv6.15.18//NONSGML v1.0//EN
CALSCALE:GREGORIAN
METHOD:PUBLISH
X-ORIGINAL-URL:https://blackpoolscouts.org.uk
X-WR-CALDESC:Events for Blackpool Scouts
REFRESH-INTERVAL;VALUE=DURATION:PT1H
X-Robots-Tag:noindex
X-PUBLISHED-TTL:PT1H
BEGIN:VTIMEZONE
TZID:Europe/London
BEGIN:DAYLIGHT
TZOFFSETFROM:+0000
TZOFFSETTO:+0100
TZNAME:BST
DTSTART:20250330T010000
END:DAYLIGHT
BEGIN:STANDARD
TZOFFSETFROM:+0100
TZOFFSETTO:+0000
TZNAME:GMT
DTSTART:20251026T010000
END:STANDARD
BEGIN:DAYLIGHT
TZOFFSETFROM:+0000
TZOFFSETTO:+0100
TZNAME:BST
DTSTART:20260329T010000
END:DAYLIGHT
BEGIN:STANDARD
TZOFFSETFROM:+0100
TZOFFSETTO:+0000
TZNAME:GMT
DTSTART:20261025T010000
END:STANDARD
BEGIN:DAYLIGHT
TZOFFSETFROM:+0000
TZOFFSETTO:+0100
TZNAME:BST
DTSTART:20270328T010000
END:DAYLIGHT
BEGIN:STANDARD
TZOFFSETFROM:+0100
TZOFFSETTO:+0000
TZNAME:GMT
DTSTART:20271031T010000
END:STANDARD
END:VTIMEZONE
BEGIN:VEVENT
DTSTART;TZID=Europe/London:20260511T180000
DTEND;TZID=Europe/London:20260511T200000
DTSTAMP:20260419T192908
CREATED:20260419T133433Z
LAST-MODIFIED:20260419T133433Z
UID:10000708-1778522400-1778529600@blackpoolscouts.org.uk
SUMMARY:BOTT Walk 2026
DESCRIPTION:Third annual Blackpool on the trail \nAll sections invited to take part. \nWalk round the Fylde Arboretum/North Blackpool pond trail. \nInfo pack sent to all sections
URL:https://blackpoolscouts.org.uk/event/bott-walk-2026/2026-05-11/
LOCATION:Fylde Memorial Arboretum & Community Woodland\, Blackpool\, FY2 0WB
CATEGORIES:Beavers,Cubs,District,Explorers,Leaders,Network,Scouts,Squirrels
ATTACH;FMTTYPE=image/png:https://blackpoolscouts.org.uk/wp-content/uploads/2024/09/Cubs-Event-Cover.png
ORGANIZER;CN="Blackpool Cub Scout Team":MAILTO:cubs@blackpoolscouts.org.uk
END:VEVENT
END:VCALENDAR